BEGIN:VCALENDAR
VERSION:2.0
PRODID:-//jEvents 2.0 for Joomla//EN
CALSCALE:GREGORIAN
METHOD:PUBLISH
BEGIN:VEVENT
UID:4215f37d21c51e9161e502a0294de092
CATEGORIES:Vorstandssitzung
CREATED:20251201T194625
SUMMARY:Vorstandssitzung
DESCRIPTION:
DTSTAMP:20260421T203550
DTSTART:20260113T190000
SEQUENCE:0
TRANSP:OPAQUE
END:VEVENT
END:VCALENDAR