BEGIN:VCALENDAR
VERSION:2.0
PRODID:-//jEvents 2.0 for Joomla//EN
CALSCALE:GREGORIAN
METHOD:PUBLISH
BEGIN:VEVENT
UID:24c9670abb38cab0e9cf495173fe5360
CATEGORIES:Vorstandssitzung
CREATED:20251201T194906
SUMMARY:Vorstandssitzung
DESCRIPTION:
DTSTAMP:20260421T092627
DTSTART:20260512T180000
SEQUENCE:0
TRANSP:OPAQUE
END:VEVENT
END:VCALENDAR