BEGIN:VCALENDAR
VERSION:2.0
PRODID:-//jEvents 2.0 for Joomla//EN
CALSCALE:GREGORIAN
METHOD:PUBLISH
BEGIN:VEVENT
UID:653d516aa5ebd6a3897968eb825b684c
CATEGORIES:Veranstaltung
CREATED:20250610T193543
SUMMARY:Schützenfest Bürger-Schützen-Verein Dinslaken 1461 e.V.
LOCATION:Alleestraße 64\, 46535 Dinslaken
DESCRIPTION:In Uniform\n
X-ALT-DESC;FMTTYPE=text/html:<p>In Uniform</p>
DTSTAMP:20260421T140801
DTSTART:20250614T174500
SEQUENCE:0
TRANSP:OPAQUE
END:VEVENT
END:VCALENDAR