BEGIN:VCALENDAR
VERSION:2.0
PRODID:-//jEvents 2.0 for Joomla//EN
CALSCALE:GREGORIAN
METHOD:PUBLISH
BEGIN:VEVENT
UID:ce308e3d0a24aa57e278cb627ffbb568
CATEGORIES:Vorstandssitzung
CREATED:20251201T194928
SUMMARY:Vorstandssitzung
DESCRIPTION:
DTSTAMP:20260421T094238
DTSTART:20260609T180000
SEQUENCE:0
TRANSP:OPAQUE
END:VEVENT
END:VCALENDAR