BEGIN:VCALENDAR
VERSION:2.0
PRODID:-//jEvents 2.0 for Joomla//EN
CALSCALE:GREGORIAN
METHOD:PUBLISH
BEGIN:VEVENT
UID:aeedac723d322db31fd5b717821806db
CATEGORIES:Veranstaltung
CREATED:20250521T104236
SUMMARY:Barmi-Party mit der Herzschlag Partyband
DESCRIPTION:
DTSTAMP:20260421T154700
DTSTART:20250607T180000
SEQUENCE:0
TRANSP:OPAQUE
END:VEVENT
END:VCALENDAR