BEGIN:VCALENDAR
VERSION:2.0
PRODID:-//jEvents 2.0 for Joomla//EN
CALSCALE:GREGORIAN
METHOD:PUBLISH
BEGIN:VEVENT
UID:52b6face906c98c2b3dbce26df820b33
CATEGORIES:Veranstaltung
CREATED:20250521T104345
SUMMARY:Öffentliches KK-Preisschießen
LOCATION:Schießanlage Sterkrader Str. 12 a\, 46539 Dinslaken
DESCRIPTION:
DTSTAMP:20260421T141230
DTSTART:20250608T080000
DTEND:20250608T110000
SEQUENCE:0
TRANSP:OPAQUE
END:VEVENT
END:VCALENDAR