BEGIN:VCALENDAR
VERSION:2.0
PRODID:-//jEvents 2.0 for Joomla//EN
CALSCALE:GREGORIAN
METHOD:PUBLISH
BEGIN:VEVENT
UID:ae4b707445e268bc010f22b89bbcd9d4
CATEGORIES:Veranstaltung
CREATED:20250522T085103
SUMMARY:Antreten der Schützen zum Pfänderschießen
DESCRIPTION:
DTSTAMP:20260421T140814
DTSTART:20250609T090000
SEQUENCE:0
TRANSP:OPAQUE
END:VEVENT
END:VCALENDAR