BEGIN:VCALENDAR
VERSION:2.0
PRODID:-//jEvents 2.0 for Joomla//EN
CALSCALE:GREGORIAN
METHOD:PUBLISH
BEGIN:VEVENT
UID:f571dfdefd65c92d777d8d02582bfbb4RR294
CATEGORIES:Veranstaltung
CREATED:20250522T093012
SUMMARY:Schützenfest in Holten
DESCRIPTION:<p>in Uniform</p>
DTSTAMP:20260421T141236
DTSTART:20250616T170000
SEQUENCE:0
TRANSP:OPAQUE
END:VEVENT
END:VCALENDAR